BEGIN:VCALENDAR
VERSION:2.0
PRODID:-//City of Antioch, California - ECPv4.6.26.1//NONSGML v1.0//EN
CALSCALE:GREGORIAN
METHOD:PUBLISH
X-WR-CALNAME:City of Antioch, California
X-ORIGINAL-URL:https://www.awegov.com
X-WR-CALDESC:Events for City of Antioch, California
BEGIN:VEVENT
DTSTART;VALUE=DATE:20210902
DTEND;VALUE=DATE:20210903
DTSTAMP:20260422T222744
CREATED:20210428T202845Z
LAST-MODIFIED:20210825T163027Z
UID:56432-1630540800-1630627199@www.awegov.com
SUMMARY:BOAA Administrative Review Panel Meeting Cancelled
DESCRIPTION:Meeting Cancelled \n
URL:https://www.awegov.com/event/boaa-administrative-review-panel-meeting-13-2-2-2-2-2-2-2-2-2-2-2-2-2-2-2-2-3-2-2-2-2-2-2-2-2-2-2-2-2-2-2/
CATEGORIES:BOAA Administrative Review Panel Meeting
ATTACH;FMTTYPE=image/jpeg:https://www.awegov.com/wp-content/uploads/2017/04/event-boaa-meeting.jpg
END:VEVENT
END:VCALENDAR