BEGIN:VCALENDAR
VERSION:2.0
PRODID:-//City of Antioch, California - ECPv4.6.26.1//NONSGML v1.0//EN
CALSCALE:GREGORIAN
METHOD:PUBLISH
X-WR-CALNAME:City of Antioch, California
X-ORIGINAL-URL:https://www.awegov.com
X-WR-CALDESC:Events for City of Antioch, California
BEGIN:VEVENT
DTSTART;TZID=UTC-8:20221013T160000
DTEND;TZID=UTC-8:20221013T200000
DTSTAMP:20260422T173143
CREATED:20220827T211356Z
LAST-MODIFIED:20220827T212229Z
UID:70124-1665676800-1665691200@www.awegov.com
SUMMARY:Big Truck Day
DESCRIPTION:Big Truck Day \nBig Truck Day…On Food Truck Thursday! Bring the kids out to see the big trucks that clean\, repair and keep the city safe! Police cars\, trash trucks\, street sweepers and other vehicles will be on display and available for some kid-friendly inspections. This event will be at the Antioch Community Center free Thursday\, October 13th \, 4:00–8:00pm \nRead more about Big Truck Day \n
URL:https://www.awegov.com/event/big-truck-day/
LOCATION:Antioch Community Center\, 4703 Lone Tree Way\, Antioch\, CA\, 94531\, United States
CATEGORIES:Events
ATTACH;FMTTYPE=image/png:https://www.awegov.com/wp-content/uploads/2022/08/big-truck-day-22.png
END:VEVENT
END:VCALENDAR