BEGIN:VCALENDAR
VERSION:2.0
PRODID:-//City of Antioch, California - ECPv4.6.26.1//NONSGML v1.0//EN
CALSCALE:GREGORIAN
METHOD:PUBLISH
X-WR-CALNAME:City of Antioch, California
X-ORIGINAL-URL:https://www.awegov.com
X-WR-CALDESC:Events for City of Antioch, California
BEGIN:VEVENT
DTSTART;TZID=UTC-8:20230921T160000
DTEND;TZID=UTC-8:20230921T200000
DTSTAMP:20260422T020140
CREATED:20230414T195037Z
LAST-MODIFIED:20230808T180324Z
UID:76318-1695312000-1695326400@www.awegov.com
SUMMARY:Big Truck Day
DESCRIPTION:Big Truck Day \nWith great success and back by popular demand\, the City of Antioch Recreation Department will host the fourth annual Big Truck Day! \nBig Truck Day gives families and kids of all ages an opportunity to learn more about local companies and the large vehicles used to keep our community safe and green. Enjoy food trucks provided by Foodie Crew while you explore fire engines\, school buses\, tractors\, and so much more! Bring the whole family to experience the vehicles that help our city function. \nTruck/Vehicle registration forms will open Monday\, June 12th and close September 1\, 2023.  \n  \nDate: Thursday\, September 21st \nTime: 4:00pm-8:00pm \nLocation: Antioch Community Center | 4703 Lone Tree Way Antioch\, CA 94531 \n  \nThis Thursday\, September 21st come out to see and touch the big trucks that service the city! Enjoy food trucks provided by Foodie Crew SF while you explore fire engines\, school buses and so much more. Bring the whole family to experience the vehicles that help our city function! \n
URL:https://www.awegov.com/event/big-truck-day-2/
LOCATION:Antioch Community Center\, 4703 Lone Tree Way\, Antioch\, CA\, 94531\, United States
CATEGORIES:Events
ATTACH;FMTTYPE=image/jpeg:https://www.awegov.com/wp-content/uploads/2023/04/big-truck-day-2023.jpg
END:VEVENT
END:VCALENDAR