BEGIN:VCALENDAR
VERSION:2.0
PRODID:-//City of Antioch, California - ECPv4.6.26.1//NONSGML v1.0//EN
CALSCALE:GREGORIAN
METHOD:PUBLISH
X-WR-CALNAME:City of Antioch, California
X-ORIGINAL-URL:https://www.awegov.com
X-WR-CALDESC:Events for City of Antioch, California
BEGIN:VEVENT
DTSTART;TZID=UTC-8:20240415T183000
DTEND;TZID=UTC-8:20240415T183000
DTSTAMP:20260423T032709
CREATED:20240412T222045Z
LAST-MODIFIED:20240412T222045Z
UID:99607-1713205800-1713205800@www.awegov.com
SUMMARY:Antioch Police Oversight Commission
DESCRIPTION:Agenda \n
URL:https://www.awegov.com/event/antioch-police-oversight-commission-3/
LOCATION:Antioch City Hall\, 200 H Street\, Antioch\, 94509\, United States
CATEGORIES:Antioch Police Oversight Commission,POSC Meeting
ATTACH;FMTTYPE=image/jpeg:https://www.awegov.com/wp-content/uploads/2024/03/apoc-mtg.jpg
END:VEVENT
END:VCALENDAR