BEGIN:VCALENDAR
VERSION:2.0
PRODID:-//City of Antioch, California - ECPv4.6.26.1//NONSGML v1.0//EN
CALSCALE:GREGORIAN
METHOD:PUBLISH
X-WR-CALNAME:City of Antioch, California
X-ORIGINAL-URL:https://www.awegov.com
X-WR-CALDESC:Events for City of Antioch, California
BEGIN:VEVENT
DTSTART;VALUE=DATE:20240715
DTEND;VALUE=DATE:20240716
DTSTAMP:20260422T160825
CREATED:20240713T000125Z
LAST-MODIFIED:20240713T000212Z
UID:101894-1721001600-1721087999@www.awegov.com
SUMMARY:NO Antioch Police Oversight Commission Meeting
DESCRIPTION:No meeting due to Summer Break. \nNotice \n
URL:https://www.awegov.com/event/antioch-police-oversight-commission-3-2-2-2-2-3/
CATEGORIES:Antioch Police Oversight Commission,POSC Meeting
ATTACH;FMTTYPE=image/jpeg:https://www.awegov.com/wp-content/uploads/2024/03/apoc-mtg.jpg
END:VEVENT
END:VCALENDAR