BEGIN:VCALENDAR
VERSION:2.0
PRODID:-//City of Antioch, California - ECPv4.6.26.1//NONSGML v1.0//EN
CALSCALE:GREGORIAN
METHOD:PUBLISH
X-WR-CALNAME:City of Antioch, California
X-ORIGINAL-URL:https://www.awegov.com
X-WR-CALDESC:Events for City of Antioch, California
BEGIN:VEVENT
DTSTART;TZID=UTC-8:20250310T183000
DTEND;TZID=UTC-8:20250310T183000
DTSTAMP:20260422T222509
CREATED:20250228T213912Z
LAST-MODIFIED:20250306T230927Z
UID:117716-1741631400-1741631400@www.awegov.com
SUMMARY:Antioch Police Oversight Commission Special Meeting
DESCRIPTION:Agenda \n
URL:https://www.awegov.com/event/antioch-police-oversight-commission-3-2-2-2-2-13-3-3/
CATEGORIES:Antioch Police Oversight Commission,POSC Meeting
ATTACH;FMTTYPE=image/jpeg:https://www.awegov.com/wp-content/uploads/2024/03/apoc-mtg.jpg
END:VEVENT
END:VCALENDAR