BEGIN:VCALENDAR
VERSION:2.0
PRODID:-//City of Antioch, California - ECPv4.6.26.1//NONSGML v1.0//EN
CALSCALE:GREGORIAN
METHOD:PUBLISH
X-WR-CALNAME:City of Antioch, California
X-ORIGINAL-URL:https://www.awegov.com
X-WR-CALDESC:Events for City of Antioch, California
BEGIN:VEVENT
DTSTART;TZID=UTC-8:20230511T160000
DTEND;TZID=UTC-8:20230511T160000
DTSTAMP:20260421T152119
CREATED:20230510T000621Z
LAST-MODIFIED:20230510T000930Z
UID:77130-1683820800-1683820800@www.awegov.com
SUMMARY:Antioch Police Department’s Community Meeting
DESCRIPTION:Agenda \n
URL:https://www.awegov.com/event/antioch-police-departments-community-meeting/
LOCATION:APD Community Room\, 300 L St\, Antioch\, CA\, 94509\, United States
CATEGORIES:Meetings
ATTACH;FMTTYPE=image/jpeg:https://www.awegov.com/wp-content/uploads/2021/01/special-meeting.jpg
END:VEVENT
END:VCALENDAR