BEGIN:VCALENDAR
VERSION:2.0
PRODID:-//City of Antioch, California - ECPv4.6.26.1//NONSGML v1.0//EN
CALSCALE:GREGORIAN
METHOD:PUBLISH
X-WR-CALNAME:City of Antioch, California
X-ORIGINAL-URL:https://www.awegov.com
X-WR-CALDESC:Events for City of Antioch, California
BEGIN:VEVENT
DTSTART;TZID=UTC-8:20201019T190000
DTEND;TZID=UTC-8:20201019T190000
DTSTAMP:20260423T144704
CREATED:20200605T180404Z
LAST-MODIFIED:20201013T165810Z
UID:45454-1603134000-1603134000@www.awegov.com
SUMMARY:Antioch Police Crime Prevention Commission Meeting
DESCRIPTION:Commission meets on the third Monday of the month\, barring holidays in which case meetings will be held the following Wednesday. \nAgenda \n
URL:https://www.awegov.com/event/antioch-police-crime-prevention-commission-meeting-15-2-2-2-2-2-2-2-2-2-2-2-2-2-2-2-2-2-2-2-2-2-2/
LOCATION:APD Community Room\, 300 L St\, Antioch\, CA\, 94509\, United States
CATEGORIES:Antioch Police Crime Prevention Commission Meeting
ATTACH;FMTTYPE=image/jpeg:https://www.awegov.com/wp-content/uploads/2017/04/event-police-meeting.jpg
END:VEVENT
END:VCALENDAR