BEGIN:VCALENDAR
VERSION:2.0
PRODID:-//City of Antioch, California - ECPv4.6.26.1//NONSGML v1.0//EN
CALSCALE:GREGORIAN
METHOD:PUBLISH
X-WR-CALNAME:City of Antioch, California
X-ORIGINAL-URL:https://www.awegov.com
X-WR-CALDESC:Events for City of Antioch, California
BEGIN:VEVENT
DTSTART;TZID=UTC-8:20210505T190000
DTEND;TZID=UTC-8:20210505T190000
DTSTAMP:20260422T223155
CREATED:20210504T012513Z
LAST-MODIFIED:20210504T012539Z
UID:56549-1620241200-1620241200@www.awegov.com
SUMMARY:Antioch Police Crime Prevention Commission Meeting
DESCRIPTION:Commission meets on the third Monday of the month\, barring holidays in which case meetings will be held the following Wednesday.\nAgenda \n
URL:https://www.awegov.com/event/antioch-police-crime-prevention-commission-meeting-15-2-2-2-2-2-2-2-2-2-2-2-2-2-2-2-2-2-2-2-2-2-2-2-2-2-2-2-2-3/
LOCATION:CA\, United States
CATEGORIES:Antioch Police Crime Prevention Commission Meeting
ATTACH;FMTTYPE=image/jpeg:https://www.awegov.com/wp-content/uploads/2017/04/event-police-meeting.jpg
END:VEVENT
END:VCALENDAR