BEGIN:VCALENDAR
VERSION:2.0
PRODID:-//City of Antioch, California - ECPv4.6.26.1//NONSGML v1.0//EN
CALSCALE:GREGORIAN
METHOD:PUBLISH
X-WR-CALNAME:City of Antioch, California
X-ORIGINAL-URL:https://www.awegov.com
X-WR-CALDESC:Events for City of Antioch, California
BEGIN:VEVENT
DTSTART;TZID=UTC-8:20210928T190000
DTEND;TZID=UTC-8:20210928T190000
DTSTAMP:20260424T084358
CREATED:20210924T184446Z
LAST-MODIFIED:20210924T184446Z
UID:61279-1632855600-1632855600@www.awegov.com
SUMMARY:Police Oversight Standing Committee Meeting
DESCRIPTION:Agenda \n
URL:https://www.awegov.com/event/antioch-police-crime-prevention-commission-meeting-15-2-2-2-2-2-2-2-2-2-2-2-2-2-2-2-2-2-2-2-2-2-2-2-2-2-2-2-2-3-2-2-3/
LOCATION:CA\, United States
CATEGORIES:POSC Meeting
ATTACH;FMTTYPE=image/jpeg:https://www.awegov.com/wp-content/uploads/2021/05/posc-mtg.jpg
END:VEVENT
END:VCALENDAR