BEGIN:VCALENDAR
VERSION:2.0
PRODID:-//City of Antioch, California - ECPv4.6.26.1//NONSGML v1.0//EN
CALSCALE:GREGORIAN
METHOD:PUBLISH
X-WR-CALNAME:City of Antioch, California
X-ORIGINAL-URL:https://www.awegov.com
X-WR-CALDESC:Events for City of Antioch, California
BEGIN:VEVENT
DTSTART;TZID=UTC-8:20211104T173000
DTEND;TZID=UTC-8:20211104T173000
DTSTAMP:20260422T223154
CREATED:20211102T174503Z
LAST-MODIFIED:20211102T174503Z
UID:62551-1636047000-1636047000@www.awegov.com
SUMMARY:AUSD/City of Antioch Standing Committee Meeting
DESCRIPTION:Agenda \n
URL:https://www.awegov.com/event/antioch-police-crime-prevention-commission-meeting-15-2-2-2-2-2-2-2-2-2-2-2-2-2-2-2-2-2-2-2-2-2-2-2-2-2-2-2-2-3-2-2-3-2-2-2/
LOCATION:Antioch Unified School District Technology Lab\, 510 G Street\, Antioch\, CA\, 94509\, United States
CATEGORIES:Meetings
ATTACH;FMTTYPE=image/jpeg:https://www.awegov.com/wp-content/uploads/2021/09/ausdsc-mtg.jpg
END:VEVENT
END:VCALENDAR