BEGIN:VCALENDAR
VERSION:2.0
PRODID:-//City of Antioch, California - ECPv4.6.26.1//NONSGML v1.0//EN
CALSCALE:GREGORIAN
METHOD:PUBLISH
X-WR-CALNAME:City of Antioch, California
X-ORIGINAL-URL:https://www.awegov.com
X-WR-CALDESC:Events for City of Antioch, California
BEGIN:VEVENT
DTSTART;TZID=UTC-8:20220428T173000
DTEND;TZID=UTC-8:20220428T173000
DTSTAMP:20260422T172416
CREATED:20220426T002926Z
LAST-MODIFIED:20220426T002939Z
UID:66722-1651167000-1651167000@www.awegov.com
SUMMARY:AUSD/City of Antioch Standing Committee Meeting
DESCRIPTION:Agenda \n
URL:https://www.awegov.com/event/antioch-police-crime-prevention-commission-meeting-15-2-2-2-2-2-2-2-2-2-2-2-2-2-2-2-2-2-2-2-2-2-2-2-2-2-2-2-2-3-2-2-3-2-2-2-3-2/
LOCATION:Antioch City Hall\, 200 H Street\, Antioch\, 94509\, United States
CATEGORIES:Meetings
ATTACH;FMTTYPE=image/jpeg:https://www.awegov.com/wp-content/uploads/2021/09/ausdsc-mtg.jpg
END:VEVENT
END:VCALENDAR