BEGIN:VCALENDAR
VERSION:2.0
PRODID:-//City of Antioch, California - ECPv4.6.26.1//NONSGML v1.0//EN
CALSCALE:GREGORIAN
METHOD:PUBLISH
X-WR-CALNAME:City of Antioch, California
X-ORIGINAL-URL:https://www.awegov.com
X-WR-CALDESC:Events for City of Antioch, California
BEGIN:VEVENT
DTSTART;VALUE=DATE:20220120
DTEND;VALUE=DATE:20220121
DTSTAMP:20260422T074624
CREATED:20220115T193237Z
LAST-MODIFIED:20220115T193237Z
UID:64212-1642636800-1642723199@www.awegov.com
SUMMARY:AUSD/City of Antioch Standing Committee Meeting Cancelled
DESCRIPTION:Meeting Cancelled \n
URL:https://www.awegov.com/event/antioch-police-crime-prevention-commission-meeting-15-2-2-2-2-2-2-2-2-2-2-2-2-2-2-2-2-2-2-2-2-2-2-2-2-2-2-2-2-3-2-2-3-2-2-2-2/
LOCATION:CA\, United States
CATEGORIES:Meetings
ATTACH;FMTTYPE=image/jpeg:https://www.awegov.com/wp-content/uploads/2021/09/ausdsc-mtg.jpg
END:VEVENT
END:VCALENDAR