BEGIN:VCALENDAR
VERSION:2.0
PRODID:-//City of Antioch, California - ECPv4.6.26.1//NONSGML v1.0//EN
CALSCALE:GREGORIAN
METHOD:PUBLISH
X-WR-CALNAME:City of Antioch, California
X-ORIGINAL-URL:https://www.awegov.com
X-WR-CALDESC:Events for City of Antioch, California
BEGIN:VEVENT
DTSTART;VALUE=DATE:20210824
DTEND;VALUE=DATE:20210825
DTSTAMP:20260422T223154
CREATED:20210819T220907Z
LAST-MODIFIED:20210819T220907Z
UID:60299-1629763200-1629849599@www.awegov.com
SUMMARY:Police Oversight Standing Committee Meeting Cancelled
DESCRIPTION:Meeting Cancelled \n
URL:https://www.awegov.com/event/antioch-police-crime-prevention-commission-meeting-15-2-2-2-2-2-2-2-2-2-2-2-2-2-2-2-2-2-2-2-2-2-2-2-2-2-2-2-2-3-2-2-2-2/
LOCATION:CA\, United States
CATEGORIES:POSC Meeting
ATTACH;FMTTYPE=image/jpeg:https://www.awegov.com/wp-content/uploads/2021/05/posc-mtg.jpg
END:VEVENT
END:VCALENDAR