BEGIN:VCALENDAR
VERSION:2.0
PRODID:-//City of Antioch, California - ECPv4.6.26.1//NONSGML v1.0//EN
CALSCALE:GREGORIAN
METHOD:PUBLISH
X-WR-CALNAME:City of Antioch, California
X-ORIGINAL-URL:https://www.awegov.com
X-WR-CALDESC:Events for City of Antioch, California
BEGIN:VEVENT
DTSTART;VALUE=DATE:20250412
DTEND;VALUE=DATE:20250413
DTSTAMP:20260423T160623
CREATED:20240910T165756Z
LAST-MODIFIED:20240910T165756Z
UID:106060-1744416000-1744502399@www.awegov.com
SUMMARY:Eggstravaganza
DESCRIPTION:
URL:https://www.awegov.com/event/eggstravaganza-25/
CATEGORIES:Events,Water Park Events
END:VEVENT
END:VCALENDAR