BEGIN:VCALENDAR
VERSION:2.0
PRODID:-//City of Antioch, California - ECPv4.6.26.1//NONSGML v1.0//EN
CALSCALE:GREGORIAN
METHOD:PUBLISH
X-WR-CALNAME:City of Antioch, California
X-ORIGINAL-URL:https://www.awegov.com
X-WR-CALDESC:Events for City of Antioch, California
BEGIN:VEVENT
DTSTART;TZID=UTC-8:20250417T190000
DTEND;TZID=UTC-8:20250417T190000
DTSTAMP:20260422T223012
CREATED:20241212T203603Z
LAST-MODIFIED:20250414T175131Z
UID:111692-1744916400-1744916400@www.awegov.com
SUMMARY:Parks & Recreation Meeting
DESCRIPTION:Meets at 7:00 p.m. on the third Thursday of every month. \nAgenda \n
URL:https://www.awegov.com/event/parks-recreation-meeting-15-2-2-2-2-2-3-2-2-2-2-2-2-2-2-2-2-2-2-2-2-2-2-2-2-2-2-2-2-2-2-2-2-2-2-2-2-2-2-2-2-2-2-2-2-2-2-2-2-2-2-2-2-2-2-2-2-2-2-2-2-11-5/
CATEGORIES:Parks & Recreation Meeting
ATTACH;FMTTYPE=image/jpeg:https://www.awegov.com/wp-content/uploads/2017/04/event-parks-meeting.jpg
END:VEVENT
END:VCALENDAR