BEGIN:VCALENDAR
VERSION:2.0
PRODID:-//City of Antioch, California - ECPv4.6.26.1//NONSGML v1.0//EN
CALSCALE:GREGORIAN
METHOD:PUBLISH
X-WR-CALNAME:City of Antioch, California
X-ORIGINAL-URL:https://www.awegov.com
X-WR-CALDESC:Events for City of Antioch, California
BEGIN:VEVENT
DTSTART;TZID=UTC-8:20240319T180000
DTEND;TZID=UTC-8:20240319T180000
DTSTAMP:20260423T174319
CREATED:20240318T223411Z
LAST-MODIFIED:20240318T223411Z
UID:98868-1710871200-1710871200@www.awegov.com
SUMMARY:City Council Special Meeting
DESCRIPTION:[vc_row][vc_column][vc_column_text css=”.vc_custom_1710801452332{margin-bottom: 0px !important;}”]The Antioch City Council meetings are held on the second and fourth Tuesday evening of every month. \nAgenda[/vc_column_text][/vc_column][/vc_row]\n
URL:https://www.awegov.com/event/city-council-meeting-32-3-3-2-2-2-2-2-2-2-2-2-2-2-2-2-2-2-2-2-2-2-2-2-2-2-2-2-2-2-2-2-2-2-2-2-2-2-2-2-2-2-2-2-2-2-2-2-2-3-2-2-2-2-2-2-2-2-2-2-2-2-2-2-2-2-2-2-2-2-2-2-2-2-2-2-2-2-2-2-2-2-2-2-2-2-2-2-34/
LOCATION:Antioch City Hall\, 200 H Street\, Antioch\, 94509\, United States
CATEGORIES:City Council Meeting
ATTACH;FMTTYPE=image/jpeg:https://www.awegov.com/wp-content/uploads/2017/04/event-city-council-meeting.jpg
END:VEVENT
END:VCALENDAR