BEGIN:VCALENDAR
VERSION:2.0
PRODID:-//City of Antioch, California - ECPv4.6.26.1//NONSGML v1.0//EN
CALSCALE:GREGORIAN
METHOD:PUBLISH
X-WR-CALNAME:City of Antioch, California
X-ORIGINAL-URL:https://www.awegov.com
X-WR-CALDESC:Events for City of Antioch, California
BEGIN:VEVENT
DTSTART;TZID=UTC-8:20250905T093000
DTEND;TZID=UTC-8:20250905T093000
DTSTAMP:20260423T045657
CREATED:20250904T151320Z
LAST-MODIFIED:20250904T151356Z
UID:167272-1757064600-1757064600@www.awegov.com
SUMMARY:CDBG Standing Committee Meeting
DESCRIPTION:Community Development Block Grant (CDBG) Standing Committee of the City Council\nAgenda \n  \n  \n
URL:https://www.awegov.com/event/boaa-administrative-review-panel-meeting-13-2-2-2-2-2-2-2-2-2-2-2-2-2-2-2-2-3-2-2-2-2-2-2-2-2-2-3-2-2-2-2-2-2-2-2-2/
LOCATION:Antioch City Hall\, 200 H Street\, Antioch\, 94509\, United States
CATEGORIES:CDBG Standing Committee
ATTACH;FMTTYPE=image/jpeg:https://www.awegov.com/wp-content/uploads/2021/03/cdbgsc.jpg
END:VEVENT
END:VCALENDAR