BEGIN:VCALENDAR
VERSION:2.0
PRODID:-//City of Antioch, California - ECPv4.6.26.1//NONSGML v1.0//EN
CALSCALE:GREGORIAN
METHOD:PUBLISH
X-WR-CALNAME:City of Antioch, California
X-ORIGINAL-URL:https://www.awegov.com
X-WR-CALDESC:Events for City of Antioch, California
BEGIN:VEVENT
DTSTART;VALUE=DATE:20250303
DTEND;VALUE=DATE:20250304
DTSTAMP:20260423T050635
CREATED:20241212T200945Z
LAST-MODIFIED:20250228T213629Z
UID:111599-1740960000-1741046399@www.awegov.com
SUMMARY:Antioch Police Oversight Commission Canceled
DESCRIPTION:
URL:https://www.awegov.com/event/antioch-police-oversight-commission-3-2-2-2-2-13-4/
CATEGORIES:Antioch Police Oversight Commission,POSC Meeting
ATTACH;FMTTYPE=image/jpeg:https://www.awegov.com/wp-content/uploads/2024/03/apoc-mtg.jpg
END:VEVENT
END:VCALENDAR