BEGIN:VCALENDAR
VERSION:2.0
PRODID:-//City of Antioch, California - ECPv4.6.26.1//NONSGML v1.0//EN
CALSCALE:GREGORIAN
METHOD:PUBLISH
X-WR-CALNAME:City of Antioch, California
X-ORIGINAL-URL:https://www.awegov.com
X-WR-CALDESC:Events for City of Antioch, California
BEGIN:VEVENT
DTSTART;TZID=UTC-8:20250120T183000
DTEND;TZID=UTC-8:20250120T183000
DTSTAMP:20260423T093958
CREATED:20250117T204325Z
LAST-MODIFIED:20250117T204325Z
UID:114632-1737397800-1737397800@www.awegov.com
SUMMARY:Antioch Police Oversight Commission Meeting Canceled
DESCRIPTION:
URL:https://www.awegov.com/event/antioch-police-oversight-commission-3-2-2-2-2-13-3-2/
CATEGORIES:Antioch Police Oversight Commission,POSC Meeting
ATTACH;FMTTYPE=image/jpeg:https://www.awegov.com/wp-content/uploads/2024/03/apoc-mtg.jpg
END:VEVENT
END:VCALENDAR