BEGIN:VCALENDAR
VERSION:2.0
PRODID:-//City of Antioch, California - ECPv4.6.26.1//NONSGML v1.0//EN
CALSCALE:GREGORIAN
METHOD:PUBLISH
X-WR-CALNAME:City of Antioch, California
X-ORIGINAL-URL:https://www.awegov.com
X-WR-CALDESC:Events for City of Antioch, California
BEGIN:VEVENT
DTSTART;TZID=UTC-8:20241207T130000
DTEND;TZID=UTC-8:20241207T190000
DTSTAMP:20260425T124802
CREATED:20231213T190545Z
LAST-MODIFIED:20231213T190545Z
UID:96658-1733576400-1733598000@www.awegov.com
SUMMARY:Holiday Delites Celebration & Parade
DESCRIPTION:
URL:https://www.awegov.com/holiday-delites-celebration-parade/
LOCATION:CA\, United States
CATEGORIES:Events
ATTACH;FMTTYPE=image/jpeg:https://www.awegov.com/wp-content/uploads/2023/04/holiday-delites-event-cover-square.jpg
END:VEVENT
END:VCALENDAR