BEGIN:VCALENDAR
VERSION:2.0
PRODID:-//City of Antioch, California - ECPv4.6.26.1//NONSGML v1.0//EN
CALSCALE:GREGORIAN
METHOD:PUBLISH
X-WR-CALNAME:City of Antioch, California
X-ORIGINAL-URL:https://www.awegov.com
X-WR-CALDESC:Events for City of Antioch, California
BEGIN:VEVENT
DTSTART;TZID=UTC-8:20241010T170000
DTEND;TZID=UTC-8:20241010T210000
DTSTAMP:20260425T160756
CREATED:20231213T182951Z
LAST-MODIFIED:20231213T182951Z
UID:96586-1728579600-1728594000@www.awegov.com
SUMMARY:Food Truck Thursday
DESCRIPTION:
URL:https://www.awegov.com/food-truck-thursday/
LOCATION:Antioch Community Center\, 4703 Lone Tree Way\, Antioch\, CA\, 94531\, United States
CATEGORIES:Events
ATTACH;FMTTYPE=image/jpeg:https://www.awegov.com/wp-content/uploads/2023/01/food-truck-thursday-event-square.jpg
END:VEVENT
END:VCALENDAR